BEGIN:VCALENDAR
VERSION:2.0
METHOD:PUBLISH
BEGIN:VEVENT
UID:WILD_APRICOT_EVENT_2357101_SESSION_1
DTSTART:20161011T203000Z
DTEND:20161012T023000Z
SUMMARY:Private Booking - 0930 - 1530 (session 1 of 4)
LOCATION:Kaitoke Range
DESCRIPTION:https://hvnzda.org.nz/event-2357101\n\nPrivate Booking - No casual use.\n  \n\n  \n\n  \n\n  *** GNx5 ***\n\n
DTSTAMP:20260424T115751Z
END:VEVENT
BEGIN:VEVENT
UID:WILD_APRICOT_EVENT_2357101_SESSION_2
DTSTART:20161018T203000Z
DTEND:20161019T023000Z
SUMMARY:Private Booking - 0930 - 1530 (session 2 of 4)
LOCATION:Kaitoke Range
DESCRIPTION:https://hvnzda.org.nz/event-2357101\n\nPrivate Booking - No casual use.\n  \n\n  \n\n  \n\n  *** GNx5 ***\n\n
DTSTAMP:20260424T115751Z
END:VEVENT
BEGIN:VEVENT
UID:WILD_APRICOT_EVENT_2357101_SESSION_3
DTSTART:20161108T203000Z
DTEND:20161109T023000Z
SUMMARY:Private Booking - 0930 - 1530 (session 3 of 4)
LOCATION:Kaitoke Range
DESCRIPTION:https://hvnzda.org.nz/event-2357101\n\nPrivate Booking - No casual use.\n  \n\n  \n\n  \n\n  *** GNx5 ***\n\n
DTSTAMP:20260424T115751Z
END:VEVENT
BEGIN:VEVENT
UID:WILD_APRICOT_EVENT_2357101_SESSION_4
DTSTART:20161129T203000Z
DTEND:20161130T023000Z
SUMMARY:Private Booking - 0930 - 1530 (session 4 of 4)
LOCATION:Kaitoke Range
DESCRIPTION:https://hvnzda.org.nz/event-2357101\n\nPrivate Booking - No casual use.\n  \n\n  \n\n  \n\n  *** GNx5 ***\n\n
DTSTAMP:20260424T115751Z
END:VEVENT
END:VCALENDAR
