BEGIN:VCALENDAR
VERSION:2.0
METHOD:PUBLISH
BEGIN:VEVENT
UID:WILD_APRICOT_EVENT_2333270_SESSION_1
DTSTART:20160921T070000Z
DTEND:20160921T093000Z
SUMMARY:Club night at the Upper Hutt Cossie Club
LOCATION:Upper Hutt Cossie Club (11 Logan Street\, Upper Hutt).
DESCRIPTION:https://hvnzda.org.nz/event-2333270\n\nMeeting officially kicks off at 7:30PM.\n
DTSTAMP:20260424T120851Z
END:VEVENT
END:VCALENDAR
