BEGIN:VCALENDAR
VERSION:2.0
METHOD:PUBLISH
BEGIN:VEVENT
UID:WILD_APRICOT_EVENT_2320113_SESSION_1
DTSTART:20160828T203000Z
DTEND:20160829T003000Z
SUMMARY:Private Booking
LOCATION:Kaitoke Range
DESCRIPTION:https://hvnzda.org.nz/event-2320113\n\nPrivate Booking - No casual Use.\n  \n\n  \n\n  ***DM***\n
DTSTAMP:20260424T115332Z
END:VEVENT
END:VCALENDAR
