BEGIN:VCALENDAR
VERSION:2.0
METHOD:PUBLISH
BEGIN:VEVENT
UID:WILD_APRICOT_EVENT_2311475_SESSION_1
DTSTART:20160816T210000Z
DTEND:20160817T030000Z
SUMMARY:Private Booking - No casual use. (session 1 of 2)
LOCATION:Kaitoke Range
DESCRIPTION:https://hvnzda.org.nz/event-2311475\n\nPrivate Booking - No casual use.\n  \n\n  \n\n  ****GN****\n\n
DTSTAMP:20260424T115721Z
END:VEVENT
BEGIN:VEVENT
UID:WILD_APRICOT_EVENT_2311475_SESSION_2
DTSTART:20160823T210000Z
DTEND:20160824T030000Z
SUMMARY:Private Booking - No casual use. (session 2 of 2)
LOCATION:Kaitoke Range
DESCRIPTION:https://hvnzda.org.nz/event-2311475\n\nPrivate Booking - No casual use.\n  \n\n  \n\n  ****GN****\n\n
DTSTAMP:20260424T115721Z
END:VEVENT
END:VCALENDAR
