BEGIN:VCALENDAR
VERSION:2.0
METHOD:PUBLISH
BEGIN:VEVENT
UID:WILD_APRICOT_EVENT_2300942_SESSION_1
DTSTART:20160731T180000Z
DTEND:20160805T080000Z
SUMMARY:Road to range will be closed\, walking access only. Please read description!
LOCATION:Kaitoke
DESCRIPTION:https://hvnzda.org.nz/event-2300942\n\nSorry this has been dragging on!\n  Greater Wellington Regional Council (GWRC) are regrading the full stretch of road this week (Monday\, August 1st and Friday\, August 5th).\n\n  The range is still accessible\, but only on foot / bike. GWRC will be removing the padlock during the weekdays. The range WILL BE accessible by car during the weekend.\n  \n\n  \n\n  \n\n  \n\n  \n\n  \n\n
DTSTAMP:20260424T141536Z
END:VEVENT
END:VCALENDAR
