BEGIN:VCALENDAR
VERSION:2.0
METHOD:PUBLISH
BEGIN:VEVENT
UID:WILD_APRICOT_EVENT_2289157_SESSION_1
DTSTART:20160717T180000Z
DTEND:20160722T080000Z
SUMMARY:Road to range will be closed\, walking access only. Please read description!
LOCATION:Kaitoke
DESCRIPTION:https://hvnzda.org.nz/event-2289157\n\nWe have just been notified by the Greater Wellington Regional Council (GWRC) that they are regrading the full stretch of road. The contractor is unable to give firm dates at this stage due to the unpredictable weather. The proposed dates are:\n  \n\n  Between: July 18th - July 22nd & July 25th - July 29th\n  \n\n  I will remove this booking as soon as the work is complete. They think it will take 2-days.\n  \n\n  The range is still accessible\, but only on foot / bike. GWRC will be removing the padlock during the weekdays. The range WILL BE accessible by car during the weekend.\n  \n\n  \n\n  \n\n  \n\n  \n\n  \n\n
DTSTAMP:20260424T121115Z
END:VEVENT
END:VCALENDAR
