BEGIN:VCALENDAR
VERSION:2.0
METHOD:PUBLISH
BEGIN:VEVENT
UID:WILD_APRICOT_EVENT_2282165_SESSION_1
DTSTART:20160720T003000Z
DTEND:20160720T043000Z
SUMMARY:Private use
LOCATION:Kaitoke
DESCRIPTION:https://hvnzda.org.nz/event-2282165\n\nRange booked for private use.\n   \n  GV \n
DTSTAMP:20260424T115313Z
END:VEVENT
END:VCALENDAR
