BEGIN:VCALENDAR
VERSION:2.0
METHOD:PUBLISH
BEGIN:VEVENT
UID:WILD_APRICOT_EVENT_2279354_SESSION_1
DTSTART:20161013T040000Z
DTEND:20161015T230000Z
SUMMARY:Navigation theory / practical & Bush craft Weekend\, Species ID Habitat
LOCATION:Aorangi Forest Park
DESCRIPTION:https://hvnzda.org.nz/event-2279354\n\nBush navigation weekend and bush craft (Bivi / shelter) environment and general bush craft skills. Theory on how to read maps and use compass\, then put theory to practice\n  \n\n  (After work on Thursday 13th to Sunday 16th lunch time).\n
DTSTAMP:20260424T121414Z
END:VEVENT
END:VCALENDAR
