BEGIN:VCALENDAR
VERSION:2.0
METHOD:PUBLISH
BEGIN:VEVENT
UID:WILD_APRICOT_EVENT_2279352_SESSION_1
DTSTART:20160930T190000Z
DTEND:20161001T040000Z
SUMMARY:Range Day \,First Aid\, Food & Cooking
LOCATION:Kaitoke Range
DESCRIPTION:https://hvnzda.org.nz/event-2279352\n\n*** HTC - No casual use ***\n  Range Day \,First Aid\, Food & Cooking\n\n
DTSTAMP:20260424T121314Z
END:VEVENT
END:VCALENDAR
