BEGIN:VCALENDAR
VERSION:2.0
METHOD:PUBLISH
BEGIN:VEVENT
UID:WILD_APRICOT_EVENT_2279351_SESSION_1
DTSTART:20160923T200000Z
DTEND:20160924T050000Z
SUMMARY:Range Day\, (Gear & Equipment)
LOCATION:Kaitoke Range
DESCRIPTION:https://hvnzda.org.nz/event-2279351\n\n*** HTC - No casual use ***\n  \n\n  Day Packs (“must have's” from a survival perspective) and full gear expectations for overnight hunts (refer student manual) safety / planning and what we have and why (from instructors).\n
DTSTAMP:20260424T131904Z
END:VEVENT
END:VCALENDAR
