BEGIN:VCALENDAR
VERSION:2.0
METHOD:PUBLISH
BEGIN:VEVENT
UID:WILD_APRICOT_EVENT_2279350_SESSION_1
DTSTART:20160916T200000Z
DTEND:20160917T050000Z
SUMMARY:Range day and Firearms intro Day
LOCATION:Kaitoke Range
DESCRIPTION:https://hvnzda.org.nz/event-2279350\n\n*** HTC Booking - No casual use ***\n  \n\n  Introduction to range rules and firearms safety\, different shooting positions etc. Including the cleaning of rifles (club or personal).\n
DTSTAMP:20260424T120157Z
END:VEVENT
END:VCALENDAR
