BEGIN:VCALENDAR
VERSION:2.0
METHOD:PUBLISH
BEGIN:VEVENT
UID:WILD_APRICOT_EVENT_2279349_SESSION_1
DTSTART:20160914T060000Z
DTEND:20160914T080000Z
SUMMARY:Upper Hutt Gun Shop
LOCATION:Upper Hutt Gun Shop
DESCRIPTION:https://hvnzda.org.nz/event-2279349\n\nIntroductions and set some expectations on fitness\, outcomes\, equipment\, costs\, and individuals responsibilities (Maps / Compass / Boots\, day packs etc.) .22 rifles used in the first range day and 243 calibre rifles are available for hire on future range days.\n
DTSTAMP:20260424T132042Z
END:VEVENT
END:VCALENDAR
