BEGIN:VCALENDAR
VERSION:2.0
METHOD:PUBLISH
BEGIN:VEVENT
UID:WILD_APRICOT_EVENT_2274501_SESSION_1
DTSTART:20160811T210000Z
DTEND:20160812T020000Z
SUMMARY:Private Booking - No casual use (session 1 of 2)
LOCATION:Kaitoke
DESCRIPTION:https://hvnzda.org.nz/event-2274501\n\nPrivate Booking - No casual use\n  \n\n  \n\n  \n\n  **HG**\n\n
DTSTAMP:20260424T130136Z
END:VEVENT
BEGIN:VEVENT
UID:WILD_APRICOT_EVENT_2274501_SESSION_2
DTSTART:20160825T210000Z
DTEND:20160826T020000Z
SUMMARY:Private Booking - No casual use (session 2 of 2)
LOCATION:Kaitoke
DESCRIPTION:https://hvnzda.org.nz/event-2274501\n\nPrivate Booking - No casual use\n  \n\n  \n\n  \n\n  **HG**\n\n
DTSTAMP:20260424T130136Z
END:VEVENT
END:VCALENDAR
