BEGIN:VCALENDAR
VERSION:2.0
METHOD:PUBLISH
BEGIN:VEVENT
UID:WILD_APRICOT_EVENT_2258155_SESSION_1
DTSTART:20160621T210000Z
DTEND:20160622T030000Z
SUMMARY:Private Booking - No casual use (0900 - 1500) (session 1 of 2)
LOCATION:Kaitoke
DESCRIPTION:https://hvnzda.org.nz/event-2258155\n\nPrivate Booking - No casual use (0900 - 1500)\n  \n\n  \n\n  *** GN\; P ***\n\n
DTSTAMP:20260424T122831Z
END:VEVENT
BEGIN:VEVENT
UID:WILD_APRICOT_EVENT_2258155_SESSION_2
DTSTART:20160628T210000Z
DTEND:20160629T030000Z
SUMMARY:Private Booking - No casual use (0900 - 1500) (session 2 of 2)
LOCATION:Kaitoke
DESCRIPTION:https://hvnzda.org.nz/event-2258155\n\nPrivate Booking - No casual use (0900 - 1500)\n  \n\n  \n\n  *** GN\; P ***\n\n
DTSTAMP:20260424T122831Z
END:VEVENT
END:VCALENDAR
