BEGIN:VCALENDAR
VERSION:2.0
METHOD:PUBLISH
BEGIN:VEVENT
UID:WILD_APRICOT_EVENT_2257544_SESSION_1
DTSTART:20160610T200000Z
DTEND:20160611T020000Z
SUMMARY:Range maintenance (session 1 of 2)
LOCATION:Kaitoke
DESCRIPTION:https://hvnzda.org.nz/event-2257544\n\n   Range maintenance\, everyone is welcome to help out\, but not shooting is permitted on the range!\n   \n   June 18th is the backup day is weather is not ideal on the 11thl\n 
DTSTAMP:20260424T155146Z
END:VEVENT
BEGIN:VEVENT
UID:WILD_APRICOT_EVENT_2257544_SESSION_2
DTSTART:20160617T200000Z
DTEND:20160618T020000Z
SUMMARY:Range maintenance (session 2 of 2)
LOCATION:Kaitoke
DESCRIPTION:https://hvnzda.org.nz/event-2257544\n\n   Range maintenance\, everyone is welcome to help out\, but not shooting is permitted on the range!\n   \n   June 18th is the backup day is weather is not ideal on the 11thl\n 
DTSTAMP:20260424T155146Z
END:VEVENT
END:VCALENDAR
