BEGIN:VCALENDAR
VERSION:2.0
METHOD:PUBLISH
BEGIN:VEVENT
UID:WILD_APRICOT_EVENT_2257527_SESSION_1
DTSTART:20161210T193000Z
DTEND:20161211T033000Z
SUMMARY:Wellington Service Rifle - All day
LOCATION:Kaitoke
DESCRIPTION:https://hvnzda.org.nz/event-2257527\n\nSole use by WSRA. \n  Din Collings bolt action trophy\n  Go to wsra.org.nz for more information.\n
DTSTAMP:20260424T143334Z
END:VEVENT
END:VCALENDAR
