BEGIN:VCALENDAR
VERSION:2.0
METHOD:PUBLISH
BEGIN:VEVENT
UID:WILD_APRICOT_EVENT_2256687_SESSION_1
DTSTART:20160531T040000Z
DTEND:20160531T115900Z
SUMMARY:Range Closed for cleaning from 4PM.
LOCATION:Kaitoke
DESCRIPTION:https://hvnzda.org.nz/event-2256687\n\nRANGE WILL BE CLOSED FOR CLEANING FROM 4PM\n\n
DTSTAMP:20260424T115052Z
END:VEVENT
END:VCALENDAR
