BEGIN:VCALENDAR
VERSION:2.0
METHOD:PUBLISH
BEGIN:VEVENT
UID:WILD_APRICOT_EVENT_2246213_SESSION_1
DTSTART:20160531T203000Z
DTEND:20160601T003000Z
SUMMARY:Private Booking
LOCATION:Kaitoke\, Range
DESCRIPTION:https://hvnzda.org.nz/event-2246213\n\nPrivate use of range. No casual shooting permitted.\n  GV\n\n
DTSTAMP:20260424T114911Z
END:VEVENT
END:VCALENDAR
