BEGIN:VCALENDAR
VERSION:2.0
METHOD:PUBLISH
BEGIN:VEVENT
UID:WILD_APRICOT_EVENT_2241761_SESSION_1
DTSTART:20160715T203000Z
DTEND:20160716T043000Z
SUMMARY:Private Booking - All day
LOCATION:Kaitoke
DESCRIPTION:https://hvnzda.org.nz/event-2241761\n\n*** Private Booking - No casual use***  \n\n  \n\n** SP **\n
DTSTAMP:20260424T120950Z
END:VEVENT
END:VCALENDAR
