BEGIN:VCALENDAR
VERSION:2.0
METHOD:PUBLISH
BEGIN:VEVENT
UID:WILD_APRICOT_EVENT_2218189_SESSION_1
DTSTART:20161029T193000Z
DTEND:20161030T033000Z
SUMMARY:KPC - All Day - Sole Use
LOCATION:Kaitoke Range
DESCRIPTION:https://hvnzda.org.nz/event-2218189\n\nExclusive use of the range by Kaitoke Pistol Club\n
DTSTAMP:20260424T143227Z
END:VEVENT
END:VCALENDAR
