BEGIN:VCALENDAR
VERSION:2.0
METHOD:PUBLISH
BEGIN:VEVENT
UID:WILD_APRICOT_EVENT_2214812_SESSION_1
DTSTART:20160403T200000Z
DTEND:20160404T060000Z
SUMMARY:Range is available all day\, but the road and carpark will be busy / full.
LOCATION:Kaitoke Range
DESCRIPTION:https://hvnzda.org.nz/event-2214812\n\nRange is available all day\, but the road and carpark will will be busy / full - Please take care.\n\n  \n\n  \n\n
DTSTAMP:20260424T115644Z
END:VEVENT
END:VCALENDAR
