BEGIN:VCALENDAR
VERSION:2.0
METHOD:PUBLISH
BEGIN:VEVENT
UID:WILD_APRICOT_EVENT_2194829_SESSION_1
DTSTART:20160604T203000Z
DTEND:20160605T003000Z
SUMMARY:KPC - 0830 - 1230 (Sole Use)
LOCATION:Kaitoke Range
DESCRIPTION:https://hvnzda.org.nz/event-2194829\n\nExclusive use of the range by Kaitoke Pistol Club\n
DTSTAMP:20260424T130254Z
END:VEVENT
END:VCALENDAR
