BEGIN:VCALENDAR
VERSION:2.0
METHOD:PUBLISH
BEGIN:VEVENT
UID:WILD_APRICOT_EVENT_2192829_SESSION_1
DTSTART:20160329T233000Z
DTEND:20160330T033000Z
SUMMARY:Private Booking
LOCATION:Kaitoke
DESCRIPTION:https://hvnzda.org.nz/event-2192829\n\nPrivate Booking - 1230 - 1630.\n  No casual use (WC).\n\n  \n\n
DTSTAMP:20260424T114652Z
END:VEVENT
END:VCALENDAR
