BEGIN:VCALENDAR
VERSION:2.0
METHOD:PUBLISH
BEGIN:VEVENT
UID:WILD_APRICOT_EVENT_2175644_SESSION_1
DTSTART:20160223T200000Z
DTEND:20160224T020000Z
SUMMARY:Private booking - 9AM - 3PM
LOCATION:kaitoke
DESCRIPTION:https://hvnzda.org.nz/event-2175644\n\nPrivate booking\, no casual use (0900 - 1500).\n  \n\n  **GN**\n\n
DTSTAMP:20260424T130211Z
END:VEVENT
END:VCALENDAR
