BEGIN:VCALENDAR
VERSION:2.0
METHOD:PUBLISH
BEGIN:VEVENT
UID:WILD_APRICOT_EVENT_2144981_SESSION_1
DTSTART:20160131T190000Z
DTEND:20160131T233000Z
SUMMARY:Private Booking - 0830 - 1230
LOCATION:Kaitoke
DESCRIPTION:https://hvnzda.org.nz/event-2144981\n\nPrivate Booking - no casual use (0830 - 1230).\n\n
DTSTAMP:20260424T131436Z
END:VEVENT
END:VCALENDAR
