BEGIN:VCALENDAR
VERSION:2.0
METHOD:PUBLISH
BEGIN:VEVENT
UID:WILD_APRICOT_EVENT_2138106_SESSION_1
DTSTART:20160211T020000Z
DTEND:20160211T060000Z
SUMMARY:Private Booking - 3PM - 7PM
LOCATION:Kaitoke
DESCRIPTION:https://hvnzda.org.nz/event-2138106\n\nPrivate Booking - no casual use (1500 - 1900).\n\n
DTSTAMP:20260424T142202Z
END:VEVENT
END:VCALENDAR
