BEGIN:VCALENDAR
VERSION:2.0
METHOD:PUBLISH
BEGIN:VEVENT
UID:WILD_APRICOT_EVENT_2138052_SESSION_1
DTSTART:20160416T203000Z
DTEND:20160417T003000Z
SUMMARY:KPC -  Sole Use (0830 - 1230).
LOCATION:Kaitoke Range
DESCRIPTION:https://hvnzda.org.nz/event-2138052\n\nExclusive use of the range by Kaitoke Pistol Club\n
DTSTAMP:20260424T131608Z
END:VEVENT
END:VCALENDAR
