BEGIN:VCALENDAR
VERSION:2.0
METHOD:PUBLISH
BEGIN:VEVENT
UID:WILD_APRICOT_EVENT_2136001_SESSION_1
DTSTART:20160820T203000Z
DTEND:20160821T043000Z
SUMMARY:KPC - All Day - Sole Use
LOCATION:Kaitoke Range
DESCRIPTION:https://hvnzda.org.nz/event-2136001\n\nExclusive use of the range by Kaitoke Pistol Club\n
DTSTAMP:20260424T131306Z
END:VEVENT
END:VCALENDAR
