BEGIN:VCALENDAR
VERSION:2.0
METHOD:PUBLISH
BEGIN:VEVENT
UID:WILD_APRICOT_EVENT_2128142_SESSION_1
DTSTART:20160105T203000Z
DTEND:20160106T013000Z
SUMMARY:Private booking - 0930 - 1430
LOCATION:kaitoke
DESCRIPTION:https://hvnzda.org.nz/event-2128142\n\nPrivate booking\, no casual use. \n  \n\n
DTSTAMP:20260424T114845Z
END:VEVENT
END:VCALENDAR
