BEGIN:VCALENDAR
VERSION:2.0
METHOD:PUBLISH
BEGIN:VEVENT
UID:WILD_APRICOT_EVENT_2101061_SESSION_1
DTSTART:20151210T233000Z
DTEND:20151211T030000Z
SUMMARY:Private Booking -Afternoon
LOCATION:kaitoke
DESCRIPTION:https://hvnzda.org.nz/event-2101061\n\nPrivate booking - B White \n
DTSTAMP:20260424T121201Z
END:VEVENT
END:VCALENDAR
