BEGIN:VCALENDAR
VERSION:2.0
METHOD:PUBLISH
BEGIN:VEVENT
UID:WILD_APRICOT_EVENT_2100376_SESSION_1
DTSTART:20151217T233000Z
DTEND:20151218T033000Z
SUMMARY:Private Booking - PM
LOCATION:kaitoke
DESCRIPTION:https://hvnzda.org.nz/event-2100376\n\nPrivate Booking: 1230 - 1630. No casual use\n\n
DTSTAMP:20260424T141102Z
END:VEVENT
END:VCALENDAR
