BEGIN:VCALENDAR
VERSION:2.0
METHOD:PUBLISH
BEGIN:VEVENT
UID:WILD_APRICOT_EVENT_2097834_SESSION_1
DTSTART:20160716T203000Z
DTEND:20160717T043000Z
SUMMARY:Private Booking - ALL DAY
LOCATION:Kaitoke
DESCRIPTION:https://hvnzda.org.nz/event-2097834\n\nPorirua Deerstalkers - Exclusive Use\n  \n\n  (Private Booking - no casual use (0830 - 1630)).\n  \n\n  \n\n
DTSTAMP:20260424T142120Z
END:VEVENT
END:VCALENDAR
