BEGIN:VCALENDAR
VERSION:2.0
METHOD:PUBLISH
BEGIN:VEVENT
UID:WILD_APRICOT_EVENT_2097832_SESSION_1
DTSTART:20160207T003000Z
DTEND:20160207T043000Z
SUMMARY:Private Booking
LOCATION:Kaitoke
DESCRIPTION:https://hvnzda.org.nz/event-2097832\n\nPorirua Deerstalkers - Private Booking.\n  No Casual Use (1330 - 1730).\n\n
DTSTAMP:20260424T122932Z
END:VEVENT
END:VCALENDAR
