BEGIN:VCALENDAR
VERSION:2.0
METHOD:PUBLISH
BEGIN:VEVENT
UID:WILD_APRICOT_EVENT_2092836_SESSION_1
DTSTART:20160928T050000Z
DTEND:20160928T070000Z
SUMMARY:Kaitoke Pistol Club summer league 6 - 8 pm (session 1 of 39)
LOCATION:Kaitoke Range
DESCRIPTION:https://hvnzda.org.nz/event-2092836\n\nRange booked for competition\, no casual use available during these times. Open to all B endorsed shooters.
DTSTAMP:20260424T141544Z
END:VEVENT
BEGIN:VEVENT
UID:WILD_APRICOT_EVENT_2092836_SESSION_2
DTSTART:20161005T050000Z
DTEND:20161005T070000Z
SUMMARY:Kaitoke Pistol Club summer league 6 - 8 pm (session 2 of 39)
LOCATION:Kaitoke Range
DESCRIPTION:https://hvnzda.org.nz/event-2092836\n\nRange booked for competition\, no casual use available during these times. Open to all B endorsed shooters.
DTSTAMP:20260424T141544Z
END:VEVENT
BEGIN:VEVENT
UID:WILD_APRICOT_EVENT_2092836_SESSION_3
DTSTART:20161012T050000Z
DTEND:20161012T070000Z
SUMMARY:Kaitoke Pistol Club summer league 6 - 8 pm (session 3 of 39)
LOCATION:Kaitoke Range
DESCRIPTION:https://hvnzda.org.nz/event-2092836\n\nRange booked for competition\, no casual use available during these times. Open to all B endorsed shooters.
DTSTAMP:20260424T141544Z
END:VEVENT
BEGIN:VEVENT
UID:WILD_APRICOT_EVENT_2092836_SESSION_4
DTSTART:20161019T050000Z
DTEND:20161019T070000Z
SUMMARY:Kaitoke Pistol Club summer league 6 - 8 pm (session 4 of 39)
LOCATION:Kaitoke Range
DESCRIPTION:https://hvnzda.org.nz/event-2092836\n\nRange booked for competition\, no casual use available during these times. Open to all B endorsed shooters.
DTSTAMP:20260424T141544Z
END:VEVENT
BEGIN:VEVENT
UID:WILD_APRICOT_EVENT_2092836_SESSION_5
DTSTART:20161026T050000Z
DTEND:20161026T070000Z
SUMMARY:Kaitoke Pistol Club summer league 6 - 8 pm (session 5 of 39)
LOCATION:Kaitoke Range
DESCRIPTION:https://hvnzda.org.nz/event-2092836\n\nRange booked for competition\, no casual use available during these times. Open to all B endorsed shooters.
DTSTAMP:20260424T141544Z
END:VEVENT
BEGIN:VEVENT
UID:WILD_APRICOT_EVENT_2092836_SESSION_6
DTSTART:20161102T050000Z
DTEND:20161102T070000Z
SUMMARY:Kaitoke Pistol Club summer league 6 - 8 pm (session 6 of 39)
LOCATION:Kaitoke Range
DESCRIPTION:https://hvnzda.org.nz/event-2092836\n\nRange booked for competition\, no casual use available during these times. Open to all B endorsed shooters.
DTSTAMP:20260424T141544Z
END:VEVENT
BEGIN:VEVENT
UID:WILD_APRICOT_EVENT_2092836_SESSION_7
DTSTART:20161109T050000Z
DTEND:20161109T070000Z
SUMMARY:Kaitoke Pistol Club summer league 6 - 8 pm (session 7 of 39)
LOCATION:Kaitoke Range
DESCRIPTION:https://hvnzda.org.nz/event-2092836\n\nRange booked for competition\, no casual use available during these times. Open to all B endorsed shooters.
DTSTAMP:20260424T141544Z
END:VEVENT
BEGIN:VEVENT
UID:WILD_APRICOT_EVENT_2092836_SESSION_8
DTSTART:20161116T050000Z
DTEND:20161116T070000Z
SUMMARY:Kaitoke Pistol Club summer league 6 - 8 pm (session 8 of 39)
LOCATION:Kaitoke Range
DESCRIPTION:https://hvnzda.org.nz/event-2092836\n\nRange booked for competition\, no casual use available during these times. Open to all B endorsed shooters.
DTSTAMP:20260424T141544Z
END:VEVENT
BEGIN:VEVENT
UID:WILD_APRICOT_EVENT_2092836_SESSION_9
DTSTART:20161123T050000Z
DTEND:20161123T070000Z
SUMMARY:Kaitoke Pistol Club summer league 6 - 8 pm (session 9 of 39)
LOCATION:Kaitoke Range
DESCRIPTION:https://hvnzda.org.nz/event-2092836\n\nRange booked for competition\, no casual use available during these times. Open to all B endorsed shooters.
DTSTAMP:20260424T141544Z
END:VEVENT
BEGIN:VEVENT
UID:WILD_APRICOT_EVENT_2092836_SESSION_10
DTSTART:20161130T050000Z
DTEND:20161130T070000Z
SUMMARY:Kaitoke Pistol Club summer league 6 - 8 pm (session 10 of 39)
LOCATION:Kaitoke Range
DESCRIPTION:https://hvnzda.org.nz/event-2092836\n\nRange booked for competition\, no casual use available during these times. Open to all B endorsed shooters.
DTSTAMP:20260424T141544Z
END:VEVENT
BEGIN:VEVENT
UID:WILD_APRICOT_EVENT_2092836_SESSION_11
DTSTART:20161207T050000Z
DTEND:20161207T070000Z
SUMMARY:Kaitoke Pistol Club summer league 6 - 8 pm (session 11 of 39)
LOCATION:Kaitoke Range
DESCRIPTION:https://hvnzda.org.nz/event-2092836\n\nRange booked for competition\, no casual use available during these times. Open to all B endorsed shooters.
DTSTAMP:20260424T141544Z
END:VEVENT
BEGIN:VEVENT
UID:WILD_APRICOT_EVENT_2092836_SESSION_12
DTSTART:20161214T050000Z
DTEND:20161214T070000Z
SUMMARY:Kaitoke Pistol Club summer league 6 - 8 pm (session 12 of 39)
LOCATION:Kaitoke Range
DESCRIPTION:https://hvnzda.org.nz/event-2092836\n\nRange booked for competition\, no casual use available during these times. Open to all B endorsed shooters.
DTSTAMP:20260424T141544Z
END:VEVENT
BEGIN:VEVENT
UID:WILD_APRICOT_EVENT_2092836_SESSION_13
DTSTART:20161221T050000Z
DTEND:20161221T070000Z
SUMMARY:Kaitoke Pistol Club summer league 6 - 8 pm (session 13 of 39)
LOCATION:Kaitoke Range
DESCRIPTION:https://hvnzda.org.nz/event-2092836\n\nRange booked for competition\, no casual use available during these times. Open to all B endorsed shooters.
DTSTAMP:20260424T141544Z
END:VEVENT
BEGIN:VEVENT
UID:WILD_APRICOT_EVENT_2092836_SESSION_14
DTSTART:20161228T050000Z
DTEND:20161228T070000Z
SUMMARY:Kaitoke Pistol Club summer league 6 - 8 pm (session 14 of 39)
LOCATION:Kaitoke Range
DESCRIPTION:https://hvnzda.org.nz/event-2092836\n\nRange booked for competition\, no casual use available during these times. Open to all B endorsed shooters.
DTSTAMP:20260424T141544Z
END:VEVENT
BEGIN:VEVENT
UID:WILD_APRICOT_EVENT_2092836_SESSION_15
DTSTART:20170104T050000Z
DTEND:20170104T070000Z
SUMMARY:Kaitoke Pistol Club summer league 6 - 8 pm (session 15 of 39)
LOCATION:Kaitoke Range
DESCRIPTION:https://hvnzda.org.nz/event-2092836\n\nRange booked for competition\, no casual use available during these times. Open to all B endorsed shooters.
DTSTAMP:20260424T141544Z
END:VEVENT
BEGIN:VEVENT
UID:WILD_APRICOT_EVENT_2092836_SESSION_16
DTSTART:20170111T050000Z
DTEND:20170111T070000Z
SUMMARY:Kaitoke Pistol Club summer league 6 - 8 pm (session 16 of 39)
LOCATION:Kaitoke Range
DESCRIPTION:https://hvnzda.org.nz/event-2092836\n\nRange booked for competition\, no casual use available during these times. Open to all B endorsed shooters.
DTSTAMP:20260424T141544Z
END:VEVENT
BEGIN:VEVENT
UID:WILD_APRICOT_EVENT_2092836_SESSION_17
DTSTART:20170125T050000Z
DTEND:20170125T070000Z
SUMMARY:Kaitoke Pistol Club summer league 6 - 8 pm (session 17 of 39)
LOCATION:Kaitoke Range
DESCRIPTION:https://hvnzda.org.nz/event-2092836\n\nRange booked for competition\, no casual use available during these times. Open to all B endorsed shooters.
DTSTAMP:20260424T141544Z
END:VEVENT
BEGIN:VEVENT
UID:WILD_APRICOT_EVENT_2092836_SESSION_18
DTSTART:20170201T050000Z
DTEND:20170201T070000Z
SUMMARY:Kaitoke Pistol Club summer league 6 - 8 pm (session 18 of 39)
LOCATION:Kaitoke Range
DESCRIPTION:https://hvnzda.org.nz/event-2092836\n\nRange booked for competition\, no casual use available during these times. Open to all B endorsed shooters.
DTSTAMP:20260424T141544Z
END:VEVENT
BEGIN:VEVENT
UID:WILD_APRICOT_EVENT_2092836_SESSION_19
DTSTART:20170208T050000Z
DTEND:20170208T070000Z
SUMMARY:Kaitoke Pistol Club summer league 6 - 8 pm (session 19 of 39)
LOCATION:Kaitoke Range
DESCRIPTION:https://hvnzda.org.nz/event-2092836\n\nRange booked for competition\, no casual use available during these times. Open to all B endorsed shooters.
DTSTAMP:20260424T141544Z
END:VEVENT
BEGIN:VEVENT
UID:WILD_APRICOT_EVENT_2092836_SESSION_20
DTSTART:20170222T050000Z
DTEND:20170222T070000Z
SUMMARY:Kaitoke Pistol Club summer league 6 - 8 pm (session 20 of 39)
LOCATION:Kaitoke Range
DESCRIPTION:https://hvnzda.org.nz/event-2092836\n\nRange booked for competition\, no casual use available during these times. Open to all B endorsed shooters.
DTSTAMP:20260424T141544Z
END:VEVENT
BEGIN:VEVENT
UID:WILD_APRICOT_EVENT_2092836_SESSION_21
DTSTART:20170301T050000Z
DTEND:20170301T070000Z
SUMMARY:Kaitoke Pistol Club summer league 6 - 8 pm (session 21 of 39)
LOCATION:Kaitoke Range
DESCRIPTION:https://hvnzda.org.nz/event-2092836\n\nRange booked for competition\, no casual use available during these times. Open to all B endorsed shooters.
DTSTAMP:20260424T141544Z
END:VEVENT
BEGIN:VEVENT
UID:WILD_APRICOT_EVENT_2092836_SESSION_22
DTSTART:20170308T050000Z
DTEND:20170308T070000Z
SUMMARY:Kaitoke Pistol Club summer league 6 - 8 pm (session 22 of 39)
LOCATION:Kaitoke Range
DESCRIPTION:https://hvnzda.org.nz/event-2092836\n\nRange booked for competition\, no casual use available during these times. Open to all B endorsed shooters.
DTSTAMP:20260424T141544Z
END:VEVENT
BEGIN:VEVENT
UID:WILD_APRICOT_EVENT_2092836_SESSION_23
DTSTART:20170315T050000Z
DTEND:20170315T070000Z
SUMMARY:Kaitoke Pistol Club summer league 6 - 8 pm (session 23 of 39)
LOCATION:Kaitoke Range
DESCRIPTION:https://hvnzda.org.nz/event-2092836\n\nRange booked for competition\, no casual use available during these times. Open to all B endorsed shooters.
DTSTAMP:20260424T141544Z
END:VEVENT
BEGIN:VEVENT
UID:WILD_APRICOT_EVENT_2092836_SESSION_24
DTSTART:20170322T050000Z
DTEND:20170322T070000Z
SUMMARY:Kaitoke Pistol Club summer league 6 - 8 pm (session 24 of 39)
LOCATION:Kaitoke Range
DESCRIPTION:https://hvnzda.org.nz/event-2092836\n\nRange booked for competition\, no casual use available during these times. Open to all B endorsed shooters.
DTSTAMP:20260424T141544Z
END:VEVENT
BEGIN:VEVENT
UID:WILD_APRICOT_EVENT_2092836_SESSION_25
DTSTART:20170329T050000Z
DTEND:20170329T070000Z
SUMMARY:Kaitoke Pistol Club summer league 6 - 8 pm (session 25 of 39)
LOCATION:Kaitoke Range
DESCRIPTION:https://hvnzda.org.nz/event-2092836\n\nRange booked for competition\, no casual use available during these times. Open to all B endorsed shooters.
DTSTAMP:20260424T141544Z
END:VEVENT
BEGIN:VEVENT
UID:WILD_APRICOT_EVENT_2092836_SESSION_26
DTSTART:20170927T050000Z
DTEND:20170927T070000Z
SUMMARY:Kaitoke Pistol Club summer league 6 - 8 pm (session 26 of 39)
LOCATION:Kaitoke Range
DESCRIPTION:https://hvnzda.org.nz/event-2092836\n\nRange booked for competition\, no casual use available during these times. Open to all B endorsed shooters.
DTSTAMP:20260424T141544Z
END:VEVENT
BEGIN:VEVENT
UID:WILD_APRICOT_EVENT_2092836_SESSION_27
DTSTART:20171004T050000Z
DTEND:20171004T070000Z
SUMMARY:Kaitoke Pistol Club summer league 6 - 8 pm (session 27 of 39)
LOCATION:Kaitoke Range
DESCRIPTION:https://hvnzda.org.nz/event-2092836\n\nRange booked for competition\, no casual use available during these times. Open to all B endorsed shooters.
DTSTAMP:20260424T141544Z
END:VEVENT
BEGIN:VEVENT
UID:WILD_APRICOT_EVENT_2092836_SESSION_28
DTSTART:20171011T050000Z
DTEND:20171011T070000Z
SUMMARY:Kaitoke Pistol Club summer league 6 - 8 pm (session 28 of 39)
LOCATION:Kaitoke Range
DESCRIPTION:https://hvnzda.org.nz/event-2092836\n\nRange booked for competition\, no casual use available during these times. Open to all B endorsed shooters.
DTSTAMP:20260424T141544Z
END:VEVENT
BEGIN:VEVENT
UID:WILD_APRICOT_EVENT_2092836_SESSION_29
DTSTART:20171018T050000Z
DTEND:20171018T070000Z
SUMMARY:Kaitoke Pistol Club summer league 6 - 8 pm (session 29 of 39)
LOCATION:Kaitoke Range
DESCRIPTION:https://hvnzda.org.nz/event-2092836\n\nRange booked for competition\, no casual use available during these times. Open to all B endorsed shooters.
DTSTAMP:20260424T141544Z
END:VEVENT
BEGIN:VEVENT
UID:WILD_APRICOT_EVENT_2092836_SESSION_30
DTSTART:20171025T050000Z
DTEND:20171025T070000Z
SUMMARY:Kaitoke Pistol Club summer league 6 - 8 pm (session 30 of 39)
LOCATION:Kaitoke Range
DESCRIPTION:https://hvnzda.org.nz/event-2092836\n\nRange booked for competition\, no casual use available during these times. Open to all B endorsed shooters.
DTSTAMP:20260424T141544Z
END:VEVENT
BEGIN:VEVENT
UID:WILD_APRICOT_EVENT_2092836_SESSION_31
DTSTART:20171101T050000Z
DTEND:20171101T070000Z
SUMMARY:Kaitoke Pistol Club summer league 6 - 8 pm (session 31 of 39)
LOCATION:Kaitoke Range
DESCRIPTION:https://hvnzda.org.nz/event-2092836\n\nRange booked for competition\, no casual use available during these times. Open to all B endorsed shooters.
DTSTAMP:20260424T141544Z
END:VEVENT
BEGIN:VEVENT
UID:WILD_APRICOT_EVENT_2092836_SESSION_32
DTSTART:20171108T050000Z
DTEND:20171108T070000Z
SUMMARY:Kaitoke Pistol Club summer league 6 - 8 pm (session 32 of 39)
LOCATION:Kaitoke Range
DESCRIPTION:https://hvnzda.org.nz/event-2092836\n\nRange booked for competition\, no casual use available during these times. Open to all B endorsed shooters.
DTSTAMP:20260424T141544Z
END:VEVENT
BEGIN:VEVENT
UID:WILD_APRICOT_EVENT_2092836_SESSION_33
DTSTART:20171115T050000Z
DTEND:20171115T070000Z
SUMMARY:Kaitoke Pistol Club summer league 6 - 8 pm (session 33 of 39)
LOCATION:Kaitoke Range
DESCRIPTION:https://hvnzda.org.nz/event-2092836\n\nRange booked for competition\, no casual use available during these times. Open to all B endorsed shooters.
DTSTAMP:20260424T141544Z
END:VEVENT
BEGIN:VEVENT
UID:WILD_APRICOT_EVENT_2092836_SESSION_34
DTSTART:20171122T050000Z
DTEND:20171122T070000Z
SUMMARY:Kaitoke Pistol Club summer league 6 - 8 pm (session 34 of 39)
LOCATION:Kaitoke Range
DESCRIPTION:https://hvnzda.org.nz/event-2092836\n\nRange booked for competition\, no casual use available during these times. Open to all B endorsed shooters.
DTSTAMP:20260424T141544Z
END:VEVENT
BEGIN:VEVENT
UID:WILD_APRICOT_EVENT_2092836_SESSION_35
DTSTART:20171129T050000Z
DTEND:20171129T070000Z
SUMMARY:Kaitoke Pistol Club summer league 6 - 8 pm (session 35 of 39)
LOCATION:Kaitoke Range
DESCRIPTION:https://hvnzda.org.nz/event-2092836\n\nRange booked for competition\, no casual use available during these times. Open to all B endorsed shooters.
DTSTAMP:20260424T141544Z
END:VEVENT
BEGIN:VEVENT
UID:WILD_APRICOT_EVENT_2092836_SESSION_36
DTSTART:20171206T050000Z
DTEND:20171206T070000Z
SUMMARY:Kaitoke Pistol Club summer league 6 - 8 pm (session 36 of 39)
LOCATION:Kaitoke Range
DESCRIPTION:https://hvnzda.org.nz/event-2092836\n\nRange booked for competition\, no casual use available during these times. Open to all B endorsed shooters.
DTSTAMP:20260424T141544Z
END:VEVENT
BEGIN:VEVENT
UID:WILD_APRICOT_EVENT_2092836_SESSION_37
DTSTART:20171213T050000Z
DTEND:20171213T070000Z
SUMMARY:Kaitoke Pistol Club summer league 6 - 8 pm (session 37 of 39)
LOCATION:Kaitoke Range
DESCRIPTION:https://hvnzda.org.nz/event-2092836\n\nRange booked for competition\, no casual use available during these times. Open to all B endorsed shooters.
DTSTAMP:20260424T141544Z
END:VEVENT
BEGIN:VEVENT
UID:WILD_APRICOT_EVENT_2092836_SESSION_38
DTSTART:20171220T050000Z
DTEND:20171220T070000Z
SUMMARY:Kaitoke Pistol Club summer league 6 - 8 pm (session 38 of 39)
LOCATION:Kaitoke Range
DESCRIPTION:https://hvnzda.org.nz/event-2092836\n\nRange booked for competition\, no casual use available during these times. Open to all B endorsed shooters.
DTSTAMP:20260424T141544Z
END:VEVENT
BEGIN:VEVENT
UID:WILD_APRICOT_EVENT_2092836_SESSION_39
DTSTART:20171227T050000Z
DTEND:20171227T070000Z
SUMMARY:Kaitoke Pistol Club summer league 6 - 8 pm (session 39 of 39)
LOCATION:Kaitoke Range
DESCRIPTION:https://hvnzda.org.nz/event-2092836\n\nRange booked for competition\, no casual use available during these times. Open to all B endorsed shooters.
DTSTAMP:20260424T141544Z
END:VEVENT
END:VCALENDAR
