BEGIN:VCALENDAR
VERSION:2.0
METHOD:PUBLISH
BEGIN:VEVENT
UID:WILD_APRICOT_EVENT_2092832_SESSION_1
DTSTART:20160220T193000Z
DTEND:20160221T033000Z
SUMMARY:AAA - Sole Use - all day (session 1 of 6)
LOCATION:Kaitoke Range
DESCRIPTION:https://hvnzda.org.nz/event-2092832\n\nExclusive use of the range by AAA\n
DTSTAMP:20260424T122804Z
END:VEVENT
BEGIN:VEVENT
UID:WILD_APRICOT_EVENT_2092832_SESSION_2
DTSTART:20160319T193000Z
DTEND:20160320T033000Z
SUMMARY:AAA - Sole Use - all day (session 2 of 6)
LOCATION:Kaitoke Range
DESCRIPTION:https://hvnzda.org.nz/event-2092832\n\nExclusive use of the range by AAA\n
DTSTAMP:20260424T122804Z
END:VEVENT
BEGIN:VEVENT
UID:WILD_APRICOT_EVENT_2092832_SESSION_3
DTSTART:20160917T203000Z
DTEND:20160918T043000Z
SUMMARY:AAA - Sole Use - all day (session 3 of 6)
LOCATION:Kaitoke Range
DESCRIPTION:https://hvnzda.org.nz/event-2092832\n\nExclusive use of the range by AAA\n
DTSTAMP:20260424T122804Z
END:VEVENT
BEGIN:VEVENT
UID:WILD_APRICOT_EVENT_2092832_SESSION_4
DTSTART:20161022T193000Z
DTEND:20161023T033000Z
SUMMARY:AAA - Sole Use - all day (session 4 of 6)
LOCATION:Kaitoke Range
DESCRIPTION:https://hvnzda.org.nz/event-2092832\n\nExclusive use of the range by AAA\n
DTSTAMP:20260424T122804Z
END:VEVENT
BEGIN:VEVENT
UID:WILD_APRICOT_EVENT_2092832_SESSION_5
DTSTART:20161119T193000Z
DTEND:20161120T033000Z
SUMMARY:AAA - Sole Use - all day (session 5 of 6)
LOCATION:Kaitoke Range
DESCRIPTION:https://hvnzda.org.nz/event-2092832\n\nExclusive use of the range by AAA\n
DTSTAMP:20260424T122804Z
END:VEVENT
BEGIN:VEVENT
UID:WILD_APRICOT_EVENT_2092832_SESSION_6
DTSTART:20161217T193000Z
DTEND:20161218T033000Z
SUMMARY:AAA - Sole Use - all day (session 6 of 6)
LOCATION:Kaitoke Range
DESCRIPTION:https://hvnzda.org.nz/event-2092832\n\nExclusive use of the range by AAA\n
DTSTAMP:20260424T122804Z
END:VEVENT
END:VCALENDAR
