BEGIN:VCALENDAR
VERSION:2.0
METHOD:PUBLISH
BEGIN:VEVENT
UID:WILD_APRICOT_EVENT_2092830_SESSION_1
DTSTART:20161105T193000Z
DTEND:20161105T233000Z
SUMMARY:KPC - AM - Sole Use (session 1 of 3)
LOCATION:Kaitoke Range
DESCRIPTION:https://hvnzda.org.nz/event-2092830\n\nExclusive use of the range by Kaitoke Pistol Club\n
DTSTAMP:20260424T130234Z
END:VEVENT
BEGIN:VEVENT
UID:WILD_APRICOT_EVENT_2092830_SESSION_2
DTSTART:20161126T193000Z
DTEND:20161126T233000Z
SUMMARY:KPC - AM - Sole Use (session 2 of 3)
LOCATION:Kaitoke Range
DESCRIPTION:https://hvnzda.org.nz/event-2092830\n\nExclusive use of the range by Kaitoke Pistol Club\n
DTSTAMP:20260424T130234Z
END:VEVENT
BEGIN:VEVENT
UID:WILD_APRICOT_EVENT_2092830_SESSION_3
DTSTART:20161203T193000Z
DTEND:20161203T233000Z
SUMMARY:KPC - AM - Sole Use (session 3 of 3)
LOCATION:Kaitoke Range
DESCRIPTION:https://hvnzda.org.nz/event-2092830\n\nExclusive use of the range by Kaitoke Pistol Club\n
DTSTAMP:20260424T130234Z
END:VEVENT
END:VCALENDAR
