BEGIN:VCALENDAR
VERSION:2.0
METHOD:PUBLISH
BEGIN:VEVENT
UID:WILD_APRICOT_EVENT_2092829_SESSION_1
DTSTART:20160903T203000Z
DTEND:20160904T003000Z
SUMMARY:KPC - AM - Sole Use (session 1 of 2)
LOCATION:Kaitoke Range
DESCRIPTION:https://hvnzda.org.nz/event-2092829\n\nExclusive use of the range by Kaitoke Pistol Club\n
DTSTAMP:20260424T130050Z
END:VEVENT
BEGIN:VEVENT
UID:WILD_APRICOT_EVENT_2092829_SESSION_2
DTSTART:20161001T193000Z
DTEND:20161002T033000Z
SUMMARY:KPC - AM - Sole Use (session 2 of 2)
LOCATION:Kaitoke Range
DESCRIPTION:https://hvnzda.org.nz/event-2092829\n\nExclusive use of the range by Kaitoke Pistol Club\n
DTSTAMP:20260424T130050Z
END:VEVENT
END:VCALENDAR
