BEGIN:VCALENDAR
VERSION:2.0
METHOD:PUBLISH
BEGIN:VEVENT
UID:WILD_APRICOT_EVENT_2092828_SESSION_1
DTSTART:20160806T203000Z
DTEND:20160807T003000Z
SUMMARY:KPC - AM - Sole Use
LOCATION:Kaitoke Range
DESCRIPTION:https://hvnzda.org.nz/event-2092828\n\nExclusive use of the range by Kaitoke Pistol Club\n
DTSTAMP:20260424T141820Z
END:VEVENT
END:VCALENDAR
