BEGIN:VCALENDAR
VERSION:2.0
METHOD:PUBLISH
BEGIN:VEVENT
UID:WILD_APRICOT_EVENT_2092827_SESSION_1
DTSTART:20160702T203000Z
DTEND:20160703T003000Z
SUMMARY:KPC - AM - Sole Use (session 1 of 2)
LOCATION:Kaitoke Range
DESCRIPTION:https://hvnzda.org.nz/event-2092827\n\nExclusive use of the range by Kaitoke Pistol Club\n
DTSTAMP:20260424T121021Z
END:VEVENT
BEGIN:VEVENT
UID:WILD_APRICOT_EVENT_2092827_SESSION_2
DTSTART:20160723T203000Z
DTEND:20160724T003000Z
SUMMARY:KPC - AM - Sole Use (session 2 of 2)
LOCATION:Kaitoke Range
DESCRIPTION:https://hvnzda.org.nz/event-2092827\n\nExclusive use of the range by Kaitoke Pistol Club\n
DTSTAMP:20260424T121021Z
END:VEVENT
END:VCALENDAR
