BEGIN:VCALENDAR
VERSION:2.0
METHOD:PUBLISH
BEGIN:VEVENT
UID:WILD_APRICOT_EVENT_2092790_SESSION_1
DTSTART:20160430T203000Z
DTEND:20160501T003000Z
SUMMARY:KPC - AM - Sole Use (session 1 of 3)
LOCATION:Kaitoke Range
DESCRIPTION:https://hvnzda.org.nz/event-2092790\n\nExclusive use of the range by Kaitoke Pistol Club\n
DTSTAMP:20260424T142135Z
END:VEVENT
BEGIN:VEVENT
UID:WILD_APRICOT_EVENT_2092790_SESSION_2
DTSTART:20160507T203000Z
DTEND:20160508T003000Z
SUMMARY:KPC - AM - Sole Use (session 2 of 3)
LOCATION:Kaitoke Range
DESCRIPTION:https://hvnzda.org.nz/event-2092790\n\nExclusive use of the range by Kaitoke Pistol Club\n
DTSTAMP:20260424T142135Z
END:VEVENT
BEGIN:VEVENT
UID:WILD_APRICOT_EVENT_2092790_SESSION_3
DTSTART:20160528T203000Z
DTEND:20160529T003000Z
SUMMARY:KPC - AM - Sole Use (session 3 of 3)
LOCATION:Kaitoke Range
DESCRIPTION:https://hvnzda.org.nz/event-2092790\n\nExclusive use of the range by Kaitoke Pistol Club\n
DTSTAMP:20260424T142135Z
END:VEVENT
END:VCALENDAR
