BEGIN:VCALENDAR
VERSION:2.0
METHOD:PUBLISH
BEGIN:VEVENT
UID:WILD_APRICOT_EVENT_2092789_SESSION_1
DTSTART:20160402T203000Z
DTEND:20160403T003000Z
SUMMARY:KPC - AM - Sole Use
LOCATION:Kaitoke Range
DESCRIPTION:https://hvnzda.org.nz/event-2092789\n\nExclusive use of the range by Kaitoke Pistol Club\n
DTSTAMP:20260424T142425Z
END:VEVENT
END:VCALENDAR
