BEGIN:VCALENDAR
VERSION:2.0
METHOD:PUBLISH
BEGIN:VEVENT
UID:WILD_APRICOT_EVENT_2092787_SESSION_1
DTSTART:20160123T193000Z
DTEND:20160123T233000Z
SUMMARY:KPC - AM - Sole Use
LOCATION:Kaitoke Range
DESCRIPTION:https://hvnzda.org.nz/event-2092787\n\nExclusive use of the range by Kaitoke Pistol Club\n
DTSTAMP:20260424T123001Z
END:VEVENT
END:VCALENDAR
