BEGIN:VCALENDAR
VERSION:2.0
METHOD:PUBLISH
BEGIN:VEVENT
UID:WILD_APRICOT_EVENT_2092785_SESSION_1
DTSTART:20160213T193000Z
DTEND:20160213T233000Z
SUMMARY:KPC - AM - Sole Use
LOCATION:Kaitoke Range
DESCRIPTION:https://hvnzda.org.nz/event-2092785\n\nExclusive use of the range by Kaitoke Pistol Club\n
DTSTAMP:20260424T114718Z
END:VEVENT
END:VCALENDAR
