BEGIN:VCALENDAR
VERSION:2.0
METHOD:PUBLISH
BEGIN:VEVENT
UID:WILD_APRICOT_EVENT_2092784_SESSION_1
DTSTART:20160109T193000Z
DTEND:20160110T033000Z
SUMMARY:KPC - Open day ( full day)
LOCATION:Kaitoke Range
DESCRIPTION:https://hvnzda.org.nz/event-2092784\n\nOpen day held by the kaitoke pistol club. All visitors welcomed
DTSTAMP:20260424T120831Z
END:VEVENT
END:VCALENDAR
