BEGIN:VCALENDAR
VERSION:2.0
METHOD:PUBLISH
BEGIN:VEVENT
UID:WILD_APRICOT_EVENT_2092780_SESSION_1
DTSTART:20170225T233000Z
DTEND:20170226T033000Z
SUMMARY:NZDA - Sole Use -PM (session 1 of 11)
LOCATION:Kaitoke Range
DESCRIPTION:https://hvnzda.org.nz/event-2092780\n\n      Regular branch shoot     \n  \n
DTSTAMP:20260424T130329Z
END:VEVENT
BEGIN:VEVENT
UID:WILD_APRICOT_EVENT_2092780_SESSION_2
DTSTART:20170304T233000Z
DTEND:20170305T033000Z
SUMMARY:NZDA - Sole Use -PM (session 2 of 11)
LOCATION:Kaitoke Range
DESCRIPTION:https://hvnzda.org.nz/event-2092780\n\n      Regular branch shoot     \n  \n
DTSTAMP:20260424T130329Z
END:VEVENT
BEGIN:VEVENT
UID:WILD_APRICOT_EVENT_2092780_SESSION_3
DTSTART:20170409T003000Z
DTEND:20170409T043000Z
SUMMARY:NZDA - Sole Use -PM (session 3 of 11)
LOCATION:Kaitoke Range
DESCRIPTION:https://hvnzda.org.nz/event-2092780\n\n      Regular branch shoot     \n  \n
DTSTAMP:20260424T130329Z
END:VEVENT
BEGIN:VEVENT
UID:WILD_APRICOT_EVENT_2092780_SESSION_4
DTSTART:20170507T003000Z
DTEND:20170507T043000Z
SUMMARY:NZDA - Sole Use -PM (session 4 of 11)
LOCATION:Kaitoke Range
DESCRIPTION:https://hvnzda.org.nz/event-2092780\n\n      Regular branch shoot     \n  \n
DTSTAMP:20260424T130329Z
END:VEVENT
BEGIN:VEVENT
UID:WILD_APRICOT_EVENT_2092780_SESSION_5
DTSTART:20170618T003000Z
DTEND:20170618T043000Z
SUMMARY:NZDA - Sole Use -PM (session 5 of 11)
LOCATION:Kaitoke Range
DESCRIPTION:https://hvnzda.org.nz/event-2092780\n\n      Regular branch shoot     \n  \n
DTSTAMP:20260424T130329Z
END:VEVENT
BEGIN:VEVENT
UID:WILD_APRICOT_EVENT_2092780_SESSION_6
DTSTART:20170709T003000Z
DTEND:20170709T043000Z
SUMMARY:NZDA - Sole Use -PM (session 6 of 11)
LOCATION:Kaitoke Range
DESCRIPTION:https://hvnzda.org.nz/event-2092780\n\n      Regular branch shoot     \n  \n
DTSTAMP:20260424T130329Z
END:VEVENT
BEGIN:VEVENT
UID:WILD_APRICOT_EVENT_2092780_SESSION_7
DTSTART:20170806T003000Z
DTEND:20170806T043000Z
SUMMARY:NZDA - Sole Use -PM (session 7 of 11)
LOCATION:Kaitoke Range
DESCRIPTION:https://hvnzda.org.nz/event-2092780\n\n      Regular branch shoot     \n  \n
DTSTAMP:20260424T130329Z
END:VEVENT
BEGIN:VEVENT
UID:WILD_APRICOT_EVENT_2092780_SESSION_8
DTSTART:20170903T003000Z
DTEND:20170903T043000Z
SUMMARY:NZDA - Sole Use -PM (session 8 of 11)
LOCATION:Kaitoke Range
DESCRIPTION:https://hvnzda.org.nz/event-2092780\n\n      Regular branch shoot     \n  \n
DTSTAMP:20260424T130329Z
END:VEVENT
BEGIN:VEVENT
UID:WILD_APRICOT_EVENT_2092780_SESSION_9
DTSTART:20171007T233000Z
DTEND:20171008T033000Z
SUMMARY:NZDA - Sole Use -PM (session 9 of 11)
LOCATION:Kaitoke Range
DESCRIPTION:https://hvnzda.org.nz/event-2092780\n\n      Regular branch shoot     \n  \n
DTSTAMP:20260424T130329Z
END:VEVENT
BEGIN:VEVENT
UID:WILD_APRICOT_EVENT_2092780_SESSION_10
DTSTART:20171104T233000Z
DTEND:20171105T033000Z
SUMMARY:NZDA - Sole Use -PM (session 10 of 11)
LOCATION:Kaitoke Range
DESCRIPTION:https://hvnzda.org.nz/event-2092780\n\n      Regular branch shoot     \n  \n
DTSTAMP:20260424T130329Z
END:VEVENT
BEGIN:VEVENT
UID:WILD_APRICOT_EVENT_2092780_SESSION_11
DTSTART:20171202T233000Z
DTEND:20171203T033000Z
SUMMARY:NZDA - Sole Use -PM (session 11 of 11)
LOCATION:Kaitoke Range
DESCRIPTION:https://hvnzda.org.nz/event-2092780\n\n      Regular branch shoot     \n  \n
DTSTAMP:20260424T130329Z
END:VEVENT
END:VCALENDAR
