BEGIN:VCALENDAR
VERSION:2.0
METHOD:PUBLISH
BEGIN:VEVENT
UID:WILD_APRICOT_EVENT_2092778_SESSION_1
DTSTART:20160807T003000Z
DTEND:20160807T043000Z
SUMMARY:NZDA - Sole Use -PM
LOCATION:Kaitoke Range
DESCRIPTION:https://hvnzda.org.nz/event-2092778\n\n      Regular branch shoot     \n  \n
DTSTAMP:20260424T121054Z
END:VEVENT
END:VCALENDAR
