BEGIN:VCALENDAR
VERSION:2.0
METHOD:PUBLISH
BEGIN:VEVENT
UID:WILD_APRICOT_EVENT_2092776_SESSION_1
DTSTART:20160618T123000Z
DTEND:20160619T043000Z
SUMMARY:NZDA - Sole Use -PM
LOCATION:Kaitoke Range
DESCRIPTION:https://hvnzda.org.nz/event-2092776\n\n      Regular branch shoot     \n  \n
DTSTAMP:20260424T122755Z
END:VEVENT
END:VCALENDAR
