BEGIN:VCALENDAR
VERSION:2.0
METHOD:PUBLISH
BEGIN:VEVENT
UID:WILD_APRICOT_EVENT_2092774_SESSION_1
DTSTART:20160403T003000Z
DTEND:20160403T033000Z
SUMMARY:NZDA - Sole Use -PM
LOCATION:Kaitoke Range
DESCRIPTION:https://hvnzda.org.nz/event-2092774\n\n      Regular branch shoot     \n  \n
DTSTAMP:20260424T114932Z
END:VEVENT
END:VCALENDAR
