BEGIN:VCALENDAR
VERSION:2.0
METHOD:PUBLISH
BEGIN:VEVENT
UID:WILD_APRICOT_EVENT_2092773_SESSION_1
DTSTART:20160305T113000Z
DTEND:20160306T033000Z
SUMMARY:NZDA - Sole Use -PM
LOCATION:Kaitoke Range
DESCRIPTION:https://hvnzda.org.nz/event-2092773\n\n      Regular branch shoot     \n  \n
DTSTAMP:20260424T114759Z
END:VEVENT
END:VCALENDAR
