BEGIN:VCALENDAR
VERSION:2.0
METHOD:PUBLISH
BEGIN:VEVENT
UID:WILD_APRICOT_EVENT_2092771_SESSION_1
DTSTART:20160213T233000Z
DTEND:20160214T033000Z
SUMMARY:WSRA - Sole Use -PM
LOCATION:Kaitoke Range
DESCRIPTION:https://hvnzda.org.nz/event-2092771\n\n    Shotgun shoot\n  Info: secretary<wbr>@wsra.org.nz\n  \n  \n
DTSTAMP:20260424T114708Z
END:VEVENT
END:VCALENDAR
